BEGIN:VCALENDAR
VERSION:2.0
PRODID:-//WPSA - ECPv6.15.17.1//NONSGML v1.0//EN
CALSCALE:GREGORIAN
METHOD:PUBLISH
X-WR-CALNAME:WPSA
X-ORIGINAL-URL:https://wpsa.com
X-WR-CALDESC:Events for WPSA
REFRESH-INTERVAL;VALUE=DURATION:PT1H
X-Robots-Tag:noindex
X-PUBLISHED-TTL:PT1H
BEGIN:VTIMEZONE
TZID:UTC
BEGIN:STANDARD
TZOFFSETFROM:+0000
TZOFFSETTO:+0000
TZNAME:UTC
DTSTART:20230101T000000
END:STANDARD
END:VTIMEZONE
BEGIN:VEVENT
DTSTART;VALUE=DATE:20241008
DTEND;VALUE=DATE:20241011
DTSTAMP:20260422T105236
CREATED:20240527T124202Z
LAST-MODIFIED:20241022T091129Z
UID:100468-1728345600-1728604799@wpsa.com
SUMMARY:Latin American Scientific Conference
DESCRIPTION:08 – 10 October 2024\nIguazú Falls\, Paraná\, Brazil \nMore information
URL:https://wpsa.com/event/latin-american-scientific-conference/
LOCATION:Valencia\, Spain
ATTACH;FMTTYPE=image/png:https://wpsa.com/wp-content/uploads/2024/05/Latin-America.png
END:VEVENT
BEGIN:VEVENT
DTSTART;VALUE=DATE:20240917
DTEND;VALUE=DATE:20240920
DTSTAMP:20260422T105236
CREATED:20240423T142743Z
LAST-MODIFIED:20241022T090644Z
UID:100177-1726531200-1726790399@wpsa.com
SUMMARY:Space
DESCRIPTION:
URL:https://wpsa.com/event/space/
LOCATION:Rennes\, France
CATEGORIES:WPSA Events
ATTACH;FMTTYPE=image/png:https://wpsa.com/wp-content/uploads/2024/04/Space-03.png
END:VEVENT
BEGIN:VEVENT
DTSTART;VALUE=DATE:20240916
DTEND;VALUE=DATE:20240919
DTSTAMP:20260422T105236
CREATED:20240423T142156Z
LAST-MODIFIED:20241022T090638Z
UID:100172-1726444800-1726703999@wpsa.com
SUMMARY:International Poultry Symposium  of the Polish Branch of WPSA
DESCRIPTION:16 – 18 September 2024\nLublin\, Poland
URL:https://wpsa.com/event/international-poultry-symposium-of-the-polish-branch-of-wpsa/
LOCATION:Lublin\, Poland
CATEGORIES:WPSA Events
ATTACH;FMTTYPE=image/png:https://wpsa.com/wp-content/uploads/2024/04/Poultry-Symposium.png
END:VEVENT
BEGIN:VEVENT
DTSTART;VALUE=DATE:20240624
DTEND;VALUE=DATE:20240629
DTSTAMP:20260422T105236
CREATED:20240423T140002Z
LAST-MODIFIED:20241022T090654Z
UID:100165-1719187200-1719619199@wpsa.com
SUMMARY:European Poultry Conference
DESCRIPTION:24 – 28 June 2024\nValencia\, Spain
URL:https://wpsa.com/event/european-poultry-conference/
LOCATION:Valencia\, Spain
CATEGORIES:WPSA Events
ATTACH;FMTTYPE=image/png:https://wpsa.com/wp-content/uploads/2024/04/European-Poultry-Conference.png
END:VEVENT
BEGIN:VEVENT
DTSTART;VALUE=DATE:20240603
DTEND;VALUE=DATE:20240604
DTSTAMP:20260422T105236
CREATED:20240527T122419Z
LAST-MODIFIED:20241022T091312Z
UID:100461-1717372800-1717459199@wpsa.com
SUMMARY:Seminar Emerging Diseases in Poultry
DESCRIPTION:Welcome to our seminar on “Detection and Prediction of Emerging Diseases in Poultry.” Poultry farming plays a crucial role in ensuring food security and economic stability worldwide. However\, the industry faces significant challenges due to the emergence of novel diseases that can devastate flocks and disrupt supply chains. Timely detection and accurate prediction of these emerging diseases are paramount to safeguarding poultry health\, ensuring food safety\, and maintaining the economic viability of the industry. In this seminar\, we will delve into the methodologies\, technologies\, and strategies aimed at effectively detecting and predicting emerging diseases in poultry. \nMore information
URL:https://wpsa.com/event/seminar-emerging-diseases-in-poultry/
LOCATION:UVAS\, Lahore
CATEGORIES:Webinars
ATTACH;FMTTYPE=image/png:https://wpsa.com/wp-content/uploads/2024/05/Webinar-Seminar-on-Detection-and-Prediction-of.png
END:VEVENT
BEGIN:VEVENT
DTSTART;TZID=UTC:20240527T125900
DTEND;TZID=UTC:20240527T125900
DTSTAMP:20260422T105236
CREATED:20240527T125955Z
LAST-MODIFIED:20241022T091210Z
UID:100479-1716814740-1716814740@wpsa.com
SUMMARY:International Master’s programme 'Integrated Plant and Animal Breeding'
DESCRIPTION:The application period for the international Master’s programme »Integrated Plant and Animal Breeding« at the University of Goettingen\, Germany\, is open now for non-EU citizens.
URL:https://wpsa.com/event/international-masters-programme-integrated-plant-and-animal-breeding/
CATEGORIES:Education and training
ATTACH;FMTTYPE=image/jpeg:https://wpsa.com/wp-content/uploads/2024/05/ipab.jpg
END:VEVENT
BEGIN:VEVENT
DTSTART;VALUE=DATE:20240108
DTEND;VALUE=DATE:20241216
DTSTAMP:20260422T105236
CREATED:20240522T135401Z
LAST-MODIFIED:20241022T091412Z
UID:100450-1704672000-1734307199@wpsa.com
SUMMARY:WVEPAH - Module I - Key Disciplines in Poultry Health/Regulation Module WOAH (OIE)
DESCRIPTION:08 January – 15 December 2024\nOnline course
URL:https://wpsa.com/event/wvepah-module-i-key-disciplines-in-poultry-health-regulation-module-woah-oie/
LOCATION:Online
CATEGORIES:Courses
ATTACH;FMTTYPE=image/png:https://wpsa.com/wp-content/uploads/2024/05/WVEPAH-1.png
ORGANIZER;CN="WVEPAH":MAILTO:info@wvepah.org
END:VEVENT
END:VCALENDAR