BEGIN:VCALENDAR
VERSION:2.0
PRODID:-//WPSA - ECPv6.15.17.1//NONSGML v1.0//EN
CALSCALE:GREGORIAN
METHOD:PUBLISH
X-WR-CALNAME:WPSA
X-ORIGINAL-URL:https://wpsa.com
X-WR-CALDESC:Events for WPSA
REFRESH-INTERVAL;VALUE=DURATION:PT1H
X-Robots-Tag:noindex
X-PUBLISHED-TTL:PT1H
BEGIN:VTIMEZONE
TZID:UTC
BEGIN:STANDARD
TZOFFSETFROM:+0000
TZOFFSETTO:+0000
TZNAME:UTC
DTSTART:20250101T000000
END:STANDARD
END:VTIMEZONE
BEGIN:VEVENT
DTSTART;VALUE=DATE:20261123
DTEND;VALUE=DATE:20261128
DTSTAMP:20260419T232124
CREATED:20260406T072607Z
LAST-MODIFIED:20260406T073759Z
UID:384358-1795392000-1795823999@wpsa.com
SUMMARY:Broilers & Breeders Module
DESCRIPTION:This course offers a comprehensive and practical learning experience for veterinarians and poultry production professionals seeking to strengthen their expertise in poultry health and management. This 80-hour training program includes 40 hours of online recorded lectures\, which participants can complete at their own pace. The online component features pre-recorded lectures delivered by internationally recognized course masters and will remain accessible after the course.The program also includes a 40-hour in-person residential week\, taking place November 23–27\, 2026\, at the University of the Philippines Los Baños (UPLB). The week will combine lectures\, practical sessions\, clinical case discussions\, and field visits\, while encouraging interaction between participants and course masters. \nMore information here: https://www.wvepah.org/poultry-module-ii-philippines2026
URL:https://wpsa.com/event/broilers-breeders-module/
LOCATION:University of the Philippines Los Baños (UPLB)\, Philippines
CATEGORIES:Courses
ATTACH;FMTTYPE=image/png:https://wpsa.com/wp-content/uploads/2026/04/Kopie-van-WPSA-Event-7.png
END:VEVENT
BEGIN:VEVENT
DTSTART;VALUE=DATE:20261207
DTEND;VALUE=DATE:20261212
DTSTAMP:20260419T232124
CREATED:20260406T073653Z
LAST-MODIFIED:20260406T073653Z
UID:384362-1796601600-1797033599@wpsa.com
SUMMARY:Waterfowl Module
DESCRIPTION:This course offers high-quality postgraduate training for professionals working in waterfowl medicine and production. The program focuses on key topics including waterfowl genetics\, production systems\, nutrition\, incubation\, diagnostics\, and both infectious and non-infectious diseases. Participants will also gain hands-on experience through post-mortem examinations and learn waterfowl-specific sampling techniques for diagnostic purposes. A full-day field visit is included\, providing real-world context to the theoretical content. The course will be conducted in English and delivered by an international team of expert Course Masters. \nMore information here: https://www.wvepah.org/poultry-module-ii-waterfowl-2026
URL:https://wpsa.com/event/waterfowl-module/
LOCATION:Universiti Putra Malaysia\, Malaysia
CATEGORIES:Courses
ATTACH;FMTTYPE=image/png:https://wpsa.com/wp-content/uploads/2025/06/Copy-of-WPSA-Event-23.png
END:VEVENT
BEGIN:VEVENT
DTSTART;VALUE=DATE:20270531
DTEND;VALUE=DATE:20270604
DTSTAMP:20260419T232124
CREATED:20250320T061524Z
LAST-MODIFIED:20250715T191649Z
UID:383388-1811721600-1812067199@wpsa.com
SUMMARY:XII European Symposium on Poultry Welfare
DESCRIPTION:More information will follow later.
URL:https://wpsa.com/event/xii-european-symposium-on-poultry-welfare/
LOCATION:Glasgow\, Glasgow
CATEGORIES:WPSA Events
ATTACH;FMTTYPE=image/png:https://wpsa.com/wp-content/uploads/2025/03/Event-Galsgow.png
END:VEVENT
BEGIN:VEVENT
DTSTART;VALUE=DATE:20270621
DTEND;VALUE=DATE:20270625
DTSTAMP:20260419T232124
CREATED:20250716T090648Z
LAST-MODIFIED:20250716T090648Z
UID:383782-1813536000-1813881599@wpsa.com
SUMMARY:25th European Symposium on Poultry Nutrition
DESCRIPTION:Welcome to Bordeaux – a city of culture\, innovation\, and tradition – and the proud host of the 2027 European Symposium on Poultry Nutrition. \n\nAfter 20 years\, the ESPN returns to France\, marking a symbolic milestone for our community. Organized and hosted by WPSA France\, this edition offers a unique opportunity to gather in one of Europe’s most dynamic agricultural and scientific regions. It is a time not only to reflect on two decades of progress\, but to shape the direction of poultry nutrition for the next 20 years. \nAs the global poultry sector faces profound transformations\, this congress comes at a pivotal moment. Under the theme “Committed to the Future”\, we will explore how our community can proactively prepare for tomorrow’s challenges. From technological breakthroughs to environmental responsibility\, this congress is designed to serve as a platform for meaningful exchange\, collaboration\, and inspiration. \nMore information: website: https://espn2027.fr  / e-mail: es******@*******up.org
URL:https://wpsa.com/event/25th-european-symposium-on-poultry-nutrition/
LOCATION:Palais 2 l’Atlantique\, Bordeaux\, France
CATEGORIES:WPSA Events
ATTACH;FMTTYPE=image/png:https://wpsa.com/wp-content/uploads/2025/07/WPSA-Event-Bordeaux.png
END:VEVENT
BEGIN:VEVENT
DTSTART;VALUE=DATE:20270920
DTEND;VALUE=DATE:20270923
DTSTAMP:20260419T232124
CREATED:20251006T092138Z
LAST-MODIFIED:20251006T093523Z
UID:384007-1821398400-1821657599@wpsa.com
SUMMARY:8th World Waterfowl Conference
DESCRIPTION:Dates of the Conference : from 20 to 22 September 2027\nVenue : the event will take place at the Westotel Nantes Atlantique\, 34 rue de la Vrière 44240 La Chapelle-sur-Erdre\nContact person : Elisabeth Baeza-Campone el*********************@***ae.fr\nWebsite : https://wpsa.fr/manifestations/wwc-france-2027
URL:https://wpsa.com/event/8th-world-waterfowl-conference/
LOCATION:Westhotel Nantes Atlantique\, 34 rue de la Vrière\, La Chapelle-sur-Erdre\, 44240\, France
CATEGORIES:WPSA Events
ATTACH;FMTTYPE=image/png:https://wpsa.com/wp-content/uploads/2025/10/WWC27_logo.png
END:VEVENT
END:VCALENDAR