BEGIN:VCALENDAR
VERSION:2.0
PRODID:-//WPSA - ECPv6.15.17.1//NONSGML v1.0//EN
CALSCALE:GREGORIAN
METHOD:PUBLISH
X-WR-CALNAME:WPSA
X-ORIGINAL-URL:https://wpsa.com
X-WR-CALDESC:Events for WPSA
REFRESH-INTERVAL;VALUE=DURATION:PT1H
X-Robots-Tag:noindex
X-PUBLISHED-TTL:PT1H
BEGIN:VTIMEZONE
TZID:UTC
BEGIN:STANDARD
TZOFFSETFROM:+0000
TZOFFSETTO:+0000
TZNAME:UTC
DTSTART:20230101T000000
END:STANDARD
END:VTIMEZONE
BEGIN:VTIMEZONE
TZID:Europe/Paris
BEGIN:DAYLIGHT
TZOFFSETFROM:+0100
TZOFFSETTO:+0200
TZNAME:CEST
DTSTART:20240331T010000
END:DAYLIGHT
BEGIN:STANDARD
TZOFFSETFROM:+0200
TZOFFSETTO:+0100
TZNAME:CET
DTSTART:20241027T010000
END:STANDARD
BEGIN:DAYLIGHT
TZOFFSETFROM:+0100
TZOFFSETTO:+0200
TZNAME:CEST
DTSTART:20250330T010000
END:DAYLIGHT
BEGIN:STANDARD
TZOFFSETFROM:+0200
TZOFFSETTO:+0100
TZNAME:CET
DTSTART:20251026T010000
END:STANDARD
BEGIN:DAYLIGHT
TZOFFSETFROM:+0100
TZOFFSETTO:+0200
TZNAME:CEST
DTSTART:20260329T010000
END:DAYLIGHT
BEGIN:STANDARD
TZOFFSETFROM:+0200
TZOFFSETTO:+0100
TZNAME:CET
DTSTART:20261025T010000
END:STANDARD
END:VTIMEZONE
BEGIN:VEVENT
DTSTART;VALUE=DATE:20250929
DTEND;VALUE=DATE:20251004
DTSTAMP:20260419T233402
CREATED:20250430T190332Z
LAST-MODIFIED:20250501T095548Z
UID:383568-1759104000-1759535999@wpsa.com
SUMMARY:Module II: Broiler chickens & breeders
DESCRIPTION:Hybrid Program: \n\nonline session available from now\non site session: from  September 25 till October 3\, 2025\nEISMV\, Dakar\, Senegal\n\nThe WPSA members benefit 100 EUR discount on any WVEPAH course.  
URL:https://wpsa.com/event/module-ii-poulets-de-chair-reproducteurs/
LOCATION:EISMV\, Dakar\, Senegal\, Dakar\, Senegal
CATEGORIES:Courses
ATTACH;FMTTYPE=image/jpeg:https://wpsa.com/wp-content/uploads/2025/04/Dakar-WPSA-Event.jpg
ORGANIZER;CN="WVEPAH":MAILTO:info@wvepah.org
END:VEVENT
BEGIN:VEVENT
DTSTART;VALUE=DATE:20250924
DTEND;VALUE=DATE:20250927
DTSTAMP:20260419T233402
CREATED:20250226T192836Z
LAST-MODIFIED:20250226T193036Z
UID:383354-1758672000-1758931199@wpsa.com
SUMMARY:LIX Symposium Científico de Avicultura (LIX Scientific Symposium on Poultry Farming)
DESCRIPTION:The Spanish branch of WPSA will organise the annual Symposium in Granada from 24 to 24 September 2025. In addition to a full scientific programme\, we will have the opportunity to admire Granada\, with the Alhambra as an architectural jewel and the vibrant life of its streets\, this city is a true testimony of the confluence of cultures throughout history. Its Albaicín and its narrow streets full of charm\, together with its squares and viewpoints\, offer the opportunity to enjoy moments to disconnect and reflect\, adding a special value to this symposium. We are sure that this unique environment will enrich both our technical discussions and our personal experiences. The Organising Committee invites you to attend. We look forward to seeing you in Granada. For more info please contact our technical secretariat : email: in*************@****to.es / tel.: 902 500 493 || WhatsApp: 636 62 53 02.
URL:https://wpsa.com/event/lix-symposium-cientifico-de-avicultura-lix-scientific-symposium-on-poultry-farming/
LOCATION:Conference Centre\, Granada (Spain)\, Granada\, Spain
CATEGORIES:WPSA Events
ATTACH;FMTTYPE=image/png:https://wpsa.com/wp-content/uploads/2025/02/Granada-symposium.png
END:VEVENT
BEGIN:VEVENT
DTSTART;VALUE=DATE:20250922
DTEND;VALUE=DATE:20250924
DTSTAMP:20260419T233402
CREATED:20241206T090157Z
LAST-MODIFIED:20241206T090206Z
UID:383176-1758499200-1758671999@wpsa.com
SUMMARY:3rd Pan-African Poultry Conference
DESCRIPTION:
URL:https://wpsa.com/event/3rd-pan-african-poultry-conference/
LOCATION:University of Pretoria\, South Africa
CATEGORIES:WPSA Events
ATTACH;FMTTYPE=image/png:https://wpsa.com/wp-content/uploads/2024/12/2025_pan_african_logo.png
END:VEVENT
BEGIN:VEVENT
DTSTART;VALUE=DATE:20250916
DTEND;VALUE=DATE:20250919
DTSTAMP:20260419T233402
CREATED:20241206T084849Z
LAST-MODIFIED:20241206T085138Z
UID:383169-1757980800-1758239999@wpsa.com
SUMMARY:Victam Latam 2025
DESCRIPTION:
URL:https://wpsa.com/event/victam-latam-2025/
LOCATION:Expo Center Norte\, São Paulo\, Brazil
CATEGORIES:Sponsor events
ATTACH;FMTTYPE=image/png:https://wpsa.com/wp-content/uploads/2024/12/2025_victam_latam_logo.png
END:VEVENT
BEGIN:VEVENT
DTSTART;VALUE=DATE:20250914
DTEND;VALUE=DATE:20250918
DTSTAMP:20260419T233402
CREATED:20241202T183656Z
LAST-MODIFIED:20241202T183718Z
UID:383144-1757808000-1758153599@wpsa.com
SUMMARY:XX European Symposium on the Quality of Eggs and Egg Products and XXVI European Symposium on the Quality of Poultry Meat
DESCRIPTION:
URL:https://wpsa.com/event/xx-european-symposium-on-the-quality-of-eggs-and-egg-products-and-xxvi-european-symposium-on-the-quality-of-poultry-meat/
LOCATION:Zadar\, Croatia
CATEGORIES:WPSA Events
ATTACH;FMTTYPE=image/png:https://wpsa.com/wp-content/uploads/2024/12/2025_eggmeat_logo.png
END:VEVENT
BEGIN:VEVENT
DTSTART;VALUE=DATE:20250908
DTEND;VALUE=DATE:20250911
DTSTAMP:20260419T233402
CREATED:20250203T163620Z
LAST-MODIFIED:20250206T111916Z
UID:383300-1757289600-1757548799@wpsa.com
SUMMARY:The XXXV International Symposium  of the Polish Branch of WPSA
DESCRIPTION:The XXXV International Symposium of the Polish Branch of WPSA connected with The 9th International Scientific Symposium „POULTRY DAYS 2025”\, this year’s event is held under the slogan „Science practice – practice science” September 8-10\, 2025 at the Novotel Krakow City West\, Al. Armii Krajowej 11\, 30-150 Krakow. \ne-mail: sy***********@**sa.pl
URL:https://wpsa.com/event/the-xxxv-international-symposium-of-the-polish-branch-of-wpsa/
LOCATION:Novotel Krakow City\, Al. Armii Krajowej 11\, Krakow\, 30-150\, Poland
CATEGORIES:WPSA Events
ATTACH;FMTTYPE=image/jpeg:https://wpsa.com/wp-content/uploads/2025/02/WPSA-Poland-Event.jpg
END:VEVENT
BEGIN:VEVENT
DTSTART;VALUE=DATE:20250714
DTEND;VALUE=DATE:20250728
DTSTAMP:20260419T233402
CREATED:20250226T191150Z
LAST-MODIFIED:20250226T191150Z
UID:383350-1752451200-1753660799@wpsa.com
SUMMARY:2025 PSA Annual Meeting
DESCRIPTION:The premier event for poultry scientists to exchange the latest research and network with colleagues. The PSA Annual Meeting offers attendees exposure to the latest science and research within the poultry science field. With presentations from industry and academia\, this conference offers a variety of information and opportunities to all poultry scientists. For more info contact: re***********@************ce.org \n 
URL:https://wpsa.com/event/2025-psa-annual-meeting/
LOCATION:Raleigh Convention Center\, Raleigh\, NC\, USA\, 500 S Salisbury St\, Raleigh\, NC\, NC 27601\, United States
CATEGORIES:WPSA Events
ATTACH;FMTTYPE=image/png:https://wpsa.com/wp-content/uploads/2025/02/2025-PSA-Annual-Meeting.png
END:VEVENT
BEGIN:VEVENT
DTSTART;VALUE=DATE:20250623
DTEND;VALUE=DATE:20250627
DTSTAMP:20260419T233402
CREATED:20241129T134359Z
LAST-MODIFIED:20241202T182717Z
UID:383121-1750636800-1750982399@wpsa.com
SUMMARY:24th European Symposium on Poultry Nutrition
DESCRIPTION:
URL:https://wpsa.com/event/24th-european-symposium-on-poultry-nutrition/
LOCATION:Maastricht\, The Netherlands
CATEGORIES:WPSA Events
ATTACH;FMTTYPE=image/png:https://wpsa.com/wp-content/uploads/2024/12/2025_espn_logo-1.png
END:VEVENT
BEGIN:VEVENT
DTSTART;VALUE=DATE:20250620
DTEND;VALUE=DATE:20250621
DTSTAMP:20260419T233402
CREATED:20250617T120101Z
LAST-MODIFIED:20250617T120245Z
UID:383702-1750377600-1750463999@wpsa.com
SUMMARY:Webinar - Towards Smart Poultry Farming in the Tropics: Challenges and Opportunities of AI
DESCRIPTION:The Cameroon branch of WPSA will be holding on June 20\, a webinar on the topic\, “Towards Smart Poultry Farming in the Tropics: Challenges and Opportunities of AI“. Speakers: Vincent Guyonnet\, DVM\, PhD\, WVEPAH (Global coordinator\, Poultry branch)\, International poultry consultant\, Managing Director at FFI Consulting\, University of Montreal\, WPSA Canada\, and Franklin Tchakounté\, CyComAI President and Founder\, AI Expert\, Associate Professor\, University of Ngaoundéré\, Cameroon. Moderator: Francois Djitie Kouatcho\, Associate Professor of Poultry Science\, WPSA Cameroon. \nHere is the link the Webinar: https://us06web.zoom.us/j/81286696044?pwd=GnpxqT9Wih5EL6eRbBqUeDtgiTGaQ5.1
URL:https://wpsa.com/event/383702/
CATEGORIES:Webinars
ATTACH;FMTTYPE=image/png:https://wpsa.com/wp-content/uploads/2025/06/Copy-of-WPSA-Event-20.png
END:VEVENT
BEGIN:VEVENT
DTSTART;TZID=UTC:20250617T150000
DTEND;TZID=UTC:20250617T170000
DTSTAMP:20260419T233402
CREATED:20250602T203819Z
LAST-MODIFIED:20250603T103139Z
UID:383676-1750172400-1750179600@wpsa.com
SUMMARY:Free webinar - Advanced hygiene programs for peak poultry production
DESCRIPTION:Discover how cutting-edge biosecurity practices are transforming poultry production. \nJoin us for an exclusive webinar hosted by CID LINES\, an Ecolab Company\, and explore how the Avi Prime hygiene program is helping poultry producers stay ahead of evolving pathogen threats while boosting performance and profitability. \nWhat You’ll Learn in this Webinar: \n·         How barn and water hygiene directly impact Salmonella control \n·         The ROI of hygiene investments: How to peak your production through hygiene \n·         Field data from poultry farms already using Avi Prime\, showcasing real-world results
URL:https://wpsa.com/event/free-webinar-advanced-hygiene-programs-for-peak-poultry-production/
CATEGORIES:Webinars
ATTACH;FMTTYPE=image/png:https://wpsa.com/wp-content/uploads/2025/06/Copy-of-WPSA-Event-20-1.png
END:VEVENT
BEGIN:VEVENT
DTSTART;TZID=UTC:20250603T150000
DTEND;TZID=UTC:20250603T160000
DTSTAMP:20260419T233402
CREATED:20250213T141333Z
LAST-MODIFIED:20250213T141333Z
UID:383342-1748962800-1748966400@wpsa.com
SUMMARY:Alternative protein sources for poultry diets
DESCRIPTION:While most poultry diets in the USA are corn/soy based\, many other countries routinely use different poultry sources for their poultry feed. Dr. Jacquie Jacob from the University of Kentucky will discuss some of these alternative protein sources. \nPre-registration required.  After registering\, you will receive a confirmation email containing information about joining the webinar.
URL:https://wpsa.com/event/alternative-protein-sources-for-poultry-diets/
CATEGORIES:Webinars
ATTACH;FMTTYPE=image/jpeg:https://wpsa.com/wp-content/uploads/2025/02/Copy-of-WPSA-Event-9.jpg
END:VEVENT
BEGIN:VEVENT
DTSTART;TZID=Europe/Paris:20250530T150000
DTEND;TZID=Europe/Paris:20250530T170000
DTSTAMP:20260419T233402
CREATED:20250526T101704Z
LAST-MODIFIED:20250526T102312Z
UID:383625-1748617200-1748624400@wpsa.com
SUMMARY:Harnessing Insect Management for Sustainable Agri-Food Systems and Application in the Poultry Farming Sector
DESCRIPTION:The Cameroon branch of the WPSA will be holding a webinar on “Harnessing Insect Management for Sustainable Agri-Food Systems and Application in the Poultry Farming Sector” on May 30 from 3 to 5 PM (UTC+01:00). \n\n\nLink: https://us06web.zoom.us/j/82350955494?pwd=pt5iAbT4VmFXq2SaMzsXxTIa9L4WtI.1 \n\n\nID: 823 5095 5494\nCode secret: 982236 \nSpeakers: \n1. Karol B. Barragán-Fonseca\, Professor & Researcher in Sustainable Agri-food Systems | Insect Bioeconomy | Science Diplomacy | SciComm & Creative Storytelling\, National University of Colombia\, Colombia. \n2. Félix Meutchieye\, Associate Professor\, Animal Breeding\, University of Dschang\, Cameroon. \n3. Abdel-Moneim Eid Abdel-Moneim\, Associate Professor of Poultry Physiology\, Nuclear Research Center\, Egyptian Atomic Energy\, Egypt. \nModerator: Francois Djitie Kouatcho\, Associate Professor\, University of Ngaoundéré\, Cameroon / UMR-BOA\, INRAE Val de Loire\, France.
URL:https://wpsa.com/event/harnessing-insect-management-for-sustainable-agri-food-systems-and-application-in-the-poultry-farming-sector/
CATEGORIES:Webinars
ATTACH;FMTTYPE=image/png:https://wpsa.com/wp-content/uploads/2025/05/Webinar-Cameron.png
END:VEVENT
BEGIN:VEVENT
DTSTART;VALUE=DATE:20250520
DTEND;VALUE=DATE:20250523
DTSTAMP:20260419T233402
CREATED:20250320T055135Z
LAST-MODIFIED:20250509T141229Z
UID:383378-1747699200-1747958399@wpsa.com
SUMMARY:International Incubation Congress
DESCRIPTION:See the website of this event for more information \nContact: Phone: +57 310 2592243 / E-mail: se********@****ea.org \n 
URL:https://wpsa.com/event/international-incubation-congress/
LOCATION:Centro de Eventos y Convenciones Hotel Irotama\, Santa Marta\, Colombia
CATEGORIES:WPSA Events
ATTACH;FMTTYPE=image/png:https://wpsa.com/wp-content/uploads/2025/03/2025_congreso_incubacion_simbolo-2.png
END:VEVENT
BEGIN:VEVENT
DTSTART;TZID=UTC:20250506T150000
DTEND;TZID=UTC:20250506T160000
DTSTAMP:20260419T233402
CREATED:20250213T140826Z
LAST-MODIFIED:20250213T140826Z
UID:383338-1746543600-1746547200@wpsa.com
SUMMARY:Alternative grains for poultry diets
DESCRIPTION:Most poultry diets in the USA are corn/soy based\, but many other countries routinely use different grains as energy sources for their poultry diets. Dr. Jacquie Jacob from the University of Kentucky will discuss some of these alternative grains and how they can be used (and what cautions are required for some). \nPre-registration required.
URL:https://wpsa.com/event/alternative-grains-for-poultry-diets/
CATEGORIES:Webinars
ATTACH;FMTTYPE=image/jpeg:https://wpsa.com/wp-content/uploads/2025/02/Copy-of-WPSA-Event-8.jpg
END:VEVENT
BEGIN:VEVENT
DTSTART;TZID=UTC:20250401T150000
DTEND;TZID=UTC:20250401T160000
DTSTAMP:20260419T233402
CREATED:20250213T133452Z
LAST-MODIFIED:20250213T140628Z
UID:383335-1743519600-1743523200@wpsa.com
SUMMARY:Sprouting grains for poultry diets
DESCRIPTION:Several small and backyard poultry flock owners have expressed interest in sprouting grains for use with their poultry flocks. Alicia Halbritter\, ANR Agent with UF/IFAS in Baker County Florida and experienced backyard poultry owner\, will discuss this topic. This is no April 1 joke. \nPre-registration required.
URL:https://wpsa.com/event/sprouting-grains-for-poultry-diets/
CATEGORIES:Webinars
ATTACH;FMTTYPE=image/jpeg:https://wpsa.com/wp-content/uploads/2025/02/Copy-of-WPSA-Event-7.jpeg
END:VEVENT
BEGIN:VEVENT
DTSTART;TZID=UTC:20250312T100000
DTEND;TZID=UTC:20250314T170000
DTSTAMP:20260419T233402
CREATED:20241022T071544Z
LAST-MODIFIED:20241129T133603Z
UID:375502-1741773600-1741971600@wpsa.com
SUMMARY:VIV Asia 2025
DESCRIPTION:
URL:https://wpsa.com/event/viv-asia/
LOCATION:IMPACT\, Bangkok\, Thailand
CATEGORIES:Sponsor events
ATTACH;FMTTYPE=image/png:https://wpsa.com/wp-content/uploads/2024/10/VIV_ASIA.png
END:VEVENT
BEGIN:VEVENT
DTSTART;VALUE=DATE:20250312
DTEND;VALUE=DATE:20250313
DTSTAMP:20260419T233402
CREATED:20241129T143114Z
LAST-MODIFIED:20241202T080709Z
UID:383132-1741737600-1741823999@wpsa.com
SUMMARY:1st World Native Poultry Conference
DESCRIPTION:Aims of Conference\n\nZero Waster Recycler: To demonstrate how native poultry serves as a zero waste recycler in society\, effectively utilizing resources and minimizing waste through sustainable practices.\nPoverty Alleviation: Native poultry farming will prove to be a strong tool for poverty alleviation in the rural economy.\nPromotion of Native Poultry Farming: To highlight the importance and benefits of native poultry breeds in sustainable agriculture.\nKnowledge Exchange: To facilitate the sharing of research\, knowledge\, and best practices among stakeholders in the native poultry sector.\nNetworking and Collaboration: To create opportunities for networking and collaboration among researchers\, farmers\, industry professionals\, and  policymakers\n\nOrganized by: Small Scale Family Poultry Farming (SSFPF) Working Group-1 | Asian Pacific Federation | WPSA-Pakistan Branch
URL:https://wpsa.com/event/1st-world-native-poultry-conference/
LOCATION:Bangkok\, Thailand
CATEGORIES:WPSA Events
ATTACH;FMTTYPE=image/png:https://wpsa.com/wp-content/uploads/2024/12/2025_wnpc_logo.png
END:VEVENT
BEGIN:VEVENT
DTSTART;TZID=UTC:20250304T150000
DTEND;TZID=UTC:20250304T160000
DTSTAMP:20260419T233402
CREATED:20250213T131902Z
LAST-MODIFIED:20250213T141158Z
UID:383332-1741100400-1741104000@wpsa.com
SUMMARY:Backyard poultry production: General nutrition and mixing your own poultry feed
DESCRIPTION:Nutrition problems plague many backyard flocks resulting in low or no egg production\, health problems (especially reproductive)\, and welfare issues. Dr. Wilmer Pacheco\, Extension Specialist and Associate Professor with the Department of Poultry Science at Auburn University will be discussing the basic nutritional needs for backyard poultry and how you can save costs by mixing your own feed. \nPre-registration required. After registering\, you will receive a confirmation email containing information about joining the webinar. \n 
URL:https://wpsa.com/event/webinar-backyard-poultry-production-general-nutrition-and-mixing-your-own-poultry-feed/
CATEGORIES:Webinars
ATTACH;FMTTYPE=image/jpeg:https://wpsa.com/wp-content/uploads/2025/02/Copy-of-WPSA-Event-5.jpg
END:VEVENT
BEGIN:VEVENT
DTSTART;VALUE=DATE:20250304
DTEND;VALUE=DATE:20250306
DTSTAMP:20260419T233402
CREATED:20241202T082312Z
LAST-MODIFIED:20241202T082312Z
UID:383139-1741046400-1741219199@wpsa.com
SUMMARY:41st Scientific Symposium
DESCRIPTION:
URL:https://wpsa.com/event/41st-scientific-symposium/
LOCATION:Pretoria\, South Africa
CATEGORIES:WPSA Events
ATTACH;FMTTYPE=image/png:https://wpsa.com/wp-content/uploads/2024/12/2025_south_africa_logo.png
END:VEVENT
BEGIN:VEVENT
DTSTART;VALUE=DATE:20250204
DTEND;VALUE=DATE:20250205
DTSTAMP:20260419T233402
CREATED:20241206T110613Z
LAST-MODIFIED:20241206T110718Z
UID:383194-1738627200-1738713599@wpsa.com
SUMMARY:Poultry and rat snakes - friends or foe
DESCRIPTION:Rat snakes are often considered a predator to poultry flocks\, but at the same time they are a form of natural pest control. Rat snakes and poultry flocks will be discussed by Anna Wiker\, Kentucky Master Naturalist Outreach Coordinator in the Department of Forestry and Natural Resources of the University of Kentucky. She did a general presentation on rat snakes and natural pest control through her department’s outreach programme. \n3:00 PM – 4:00 PM EST
URL:https://wpsa.com/event/poultry-and-rat-snakes-friends-or-foe/
CATEGORIES:Webinars
ATTACH;FMTTYPE=image/png:https://wpsa.com/wp-content/uploads/2024/12/2025-webinar_rat_snakes.png
END:VEVENT
BEGIN:VEVENT
DTSTART;VALUE=DATE:20241008
DTEND;VALUE=DATE:20241011
DTSTAMP:20260419T233403
CREATED:20240527T124202Z
LAST-MODIFIED:20241022T091129Z
UID:100468-1728345600-1728604799@wpsa.com
SUMMARY:Latin American Scientific Conference
DESCRIPTION:08 – 10 October 2024\nIguazú Falls\, Paraná\, Brazil \nMore information
URL:https://wpsa.com/event/latin-american-scientific-conference/
LOCATION:Valencia\, Spain
ATTACH;FMTTYPE=image/png:https://wpsa.com/wp-content/uploads/2024/05/Latin-America.png
END:VEVENT
BEGIN:VEVENT
DTSTART;VALUE=DATE:20240917
DTEND;VALUE=DATE:20240920
DTSTAMP:20260419T233403
CREATED:20240423T142743Z
LAST-MODIFIED:20241022T090644Z
UID:100177-1726531200-1726790399@wpsa.com
SUMMARY:Space
DESCRIPTION:
URL:https://wpsa.com/event/space/
LOCATION:Rennes\, France
CATEGORIES:WPSA Events
ATTACH;FMTTYPE=image/png:https://wpsa.com/wp-content/uploads/2024/04/Space-03.png
END:VEVENT
BEGIN:VEVENT
DTSTART;VALUE=DATE:20240916
DTEND;VALUE=DATE:20240919
DTSTAMP:20260419T233403
CREATED:20240423T142156Z
LAST-MODIFIED:20241022T090638Z
UID:100172-1726444800-1726703999@wpsa.com
SUMMARY:International Poultry Symposium  of the Polish Branch of WPSA
DESCRIPTION:16 – 18 September 2024\nLublin\, Poland
URL:https://wpsa.com/event/international-poultry-symposium-of-the-polish-branch-of-wpsa/
LOCATION:Lublin\, Poland
CATEGORIES:WPSA Events
ATTACH;FMTTYPE=image/png:https://wpsa.com/wp-content/uploads/2024/04/Poultry-Symposium.png
END:VEVENT
BEGIN:VEVENT
DTSTART;VALUE=DATE:20240624
DTEND;VALUE=DATE:20240629
DTSTAMP:20260419T233403
CREATED:20240423T140002Z
LAST-MODIFIED:20241022T090654Z
UID:100165-1719187200-1719619199@wpsa.com
SUMMARY:European Poultry Conference
DESCRIPTION:24 – 28 June 2024\nValencia\, Spain
URL:https://wpsa.com/event/european-poultry-conference/
LOCATION:Valencia\, Spain
CATEGORIES:WPSA Events
ATTACH;FMTTYPE=image/png:https://wpsa.com/wp-content/uploads/2024/04/European-Poultry-Conference.png
END:VEVENT
BEGIN:VEVENT
DTSTART;VALUE=DATE:20240603
DTEND;VALUE=DATE:20240604
DTSTAMP:20260419T233403
CREATED:20240527T122419Z
LAST-MODIFIED:20241022T091312Z
UID:100461-1717372800-1717459199@wpsa.com
SUMMARY:Seminar Emerging Diseases in Poultry
DESCRIPTION:Welcome to our seminar on “Detection and Prediction of Emerging Diseases in Poultry.” Poultry farming plays a crucial role in ensuring food security and economic stability worldwide. However\, the industry faces significant challenges due to the emergence of novel diseases that can devastate flocks and disrupt supply chains. Timely detection and accurate prediction of these emerging diseases are paramount to safeguarding poultry health\, ensuring food safety\, and maintaining the economic viability of the industry. In this seminar\, we will delve into the methodologies\, technologies\, and strategies aimed at effectively detecting and predicting emerging diseases in poultry. \nMore information
URL:https://wpsa.com/event/seminar-emerging-diseases-in-poultry/
LOCATION:UVAS\, Lahore
CATEGORIES:Webinars
ATTACH;FMTTYPE=image/png:https://wpsa.com/wp-content/uploads/2024/05/Webinar-Seminar-on-Detection-and-Prediction-of.png
END:VEVENT
BEGIN:VEVENT
DTSTART;TZID=UTC:20240527T125900
DTEND;TZID=UTC:20240527T125900
DTSTAMP:20260419T233403
CREATED:20240527T125955Z
LAST-MODIFIED:20241022T091210Z
UID:100479-1716814740-1716814740@wpsa.com
SUMMARY:International Master’s programme 'Integrated Plant and Animal Breeding'
DESCRIPTION:The application period for the international Master’s programme »Integrated Plant and Animal Breeding« at the University of Goettingen\, Germany\, is open now for non-EU citizens.
URL:https://wpsa.com/event/international-masters-programme-integrated-plant-and-animal-breeding/
CATEGORIES:Education and training
ATTACH;FMTTYPE=image/jpeg:https://wpsa.com/wp-content/uploads/2024/05/ipab.jpg
END:VEVENT
BEGIN:VEVENT
DTSTART;VALUE=DATE:20240108
DTEND;VALUE=DATE:20241216
DTSTAMP:20260419T233403
CREATED:20240522T135401Z
LAST-MODIFIED:20241022T091412Z
UID:100450-1704672000-1734307199@wpsa.com
SUMMARY:WVEPAH - Module I - Key Disciplines in Poultry Health/Regulation Module WOAH (OIE)
DESCRIPTION:08 January – 15 December 2024\nOnline course
URL:https://wpsa.com/event/wvepah-module-i-key-disciplines-in-poultry-health-regulation-module-woah-oie/
LOCATION:Online
CATEGORIES:Courses
ATTACH;FMTTYPE=image/png:https://wpsa.com/wp-content/uploads/2024/05/WVEPAH-1.png
ORGANIZER;CN="WVEPAH":MAILTO:info@wvepah.org
END:VEVENT
END:VCALENDAR