BEGIN:VCALENDAR
VERSION:2.0
PRODID:-//WPSA - ECPv6.15.17.1//NONSGML v1.0//EN
CALSCALE:GREGORIAN
METHOD:PUBLISH
X-ORIGINAL-URL:https://wpsa.com
X-WR-CALDESC:Events for WPSA
REFRESH-INTERVAL;VALUE=DURATION:PT1H
X-Robots-Tag:noindex
X-PUBLISHED-TTL:PT1H
BEGIN:VTIMEZONE
TZID:UTC
BEGIN:STANDARD
TZOFFSETFROM:+0000
TZOFFSETTO:+0000
TZNAME:UTC
DTSTART:20240101T000000
END:STANDARD
END:VTIMEZONE
BEGIN:VEVENT
DTSTART;TZID=UTC:20260310T080000
DTEND;TZID=UTC:20260312T170000
DTSTAMP:20260422T104934
CREATED:20241206T102413Z
LAST-MODIFIED:20241206T103712Z
UID:383187-1773129600-1773334800@wpsa.com
SUMMARY:Victam Asia 2026
DESCRIPTION:
URL:https://wpsa.com/event/victam-asia-2026/
LOCATION:BITEC Exhibition Center\, Bangkok\, Thailand
CATEGORIES:Sponsor events
ATTACH;FMTTYPE=image/png:https://wpsa.com/wp-content/uploads/2024/12/2026_victam_asia_logo.png
END:VEVENT
BEGIN:VEVENT
DTSTART;VALUE=DATE:20250916
DTEND;VALUE=DATE:20250919
DTSTAMP:20260422T104934
CREATED:20241206T084849Z
LAST-MODIFIED:20241206T085138Z
UID:383169-1757980800-1758239999@wpsa.com
SUMMARY:Victam Latam 2025
DESCRIPTION:
URL:https://wpsa.com/event/victam-latam-2025/
LOCATION:Expo Center Norte\, São Paulo\, Brazil
CATEGORIES:Sponsor events
ATTACH;FMTTYPE=image/png:https://wpsa.com/wp-content/uploads/2024/12/2025_victam_latam_logo.png
END:VEVENT
BEGIN:VEVENT
DTSTART;TZID=UTC:20250312T100000
DTEND;TZID=UTC:20250314T170000
DTSTAMP:20260422T104934
CREATED:20241022T071544Z
LAST-MODIFIED:20241129T133603Z
UID:375502-1741773600-1741971600@wpsa.com
SUMMARY:VIV Asia 2025
DESCRIPTION:
URL:https://wpsa.com/event/viv-asia/
LOCATION:IMPACT\, Bangkok\, Thailand
CATEGORIES:Sponsor events
ATTACH;FMTTYPE=image/png:https://wpsa.com/wp-content/uploads/2024/10/VIV_ASIA.png
END:VEVENT
END:VCALENDAR