BEGIN:VCALENDAR
VERSION:2.0
PRODID:-//WPSA - ECPv6.15.17.1//NONSGML v1.0//EN
CALSCALE:GREGORIAN
METHOD:PUBLISH
X-ORIGINAL-URL:https://wpsa.com
X-WR-CALDESC:Events for WPSA
REFRESH-INTERVAL;VALUE=DURATION:PT1H
X-Robots-Tag:noindex
X-PUBLISHED-TTL:PT1H
BEGIN:VTIMEZONE
TZID:UTC
BEGIN:STANDARD
TZOFFSETFROM:+0000
TZOFFSETTO:+0000
TZNAME:UTC
DTSTART:20250101T000000
END:STANDARD
END:VTIMEZONE
BEGIN:VEVENT
DTSTART;VALUE=DATE:20260713
DTEND;VALUE=DATE:20260718
DTSTAMP:20260422T110305
CREATED:20241204T141807Z
LAST-MODIFIED:20241204T141807Z
UID:383156-1783900800-1784332799@wpsa.com
SUMMARY:World's Poultry Congress 2026
DESCRIPTION:
URL:https://wpsa.com/event/worlds-poultry-congress-2026/
LOCATION:Metro Toronto Convention Center (MTCC)\, Toronto\, Canada
CATEGORIES:WPSA Events
ATTACH;FMTTYPE=image/png:https://wpsa.com/wp-content/uploads/2024/12/2026_wpc_logo.png
END:VEVENT
END:VCALENDAR